BEGIN:VCALENDAR
VERSION:2.0
PRODID:-//ChamberMaster//Event Calendar 2.0//EN
METHOD:PUBLISH
X-PUBLISHED-TTL:P1H
REFRESH-INTERVAL:P1H
CALSCALE:GREGORIAN
BEGIN:VTIMEZONE
TZID:America/New_York
BEGIN:DAYLIGHT
RRULE:FREQ=YEARLY;BYMONTH=3;BYDAY=2SU
DTSTART:20070101T000000
TZOFFSETFROM:-0500
TZOFFSETTO:-0400
TZNAME:Eastern Daylight Time
END:DAYLIGHT
BEGIN:STANDARD
RRULE:FREQ=YEARLY;BYMONTH=11;BYDAY=1SU
DTSTART:20070101T000000
TZOFFSETFROM:-0400
TZOFFSETTO:-0500
TZNAME:Eastern Standard Time
END:STANDARD
END:VTIMEZONE
BEGIN:VEVENT
DTSTART;TZID=America/New_York:20260805T083000
DTEND;TZID=America/New_York:20260805T113000
X-MICROSOFT-CDO-ALLDAYEVENT:FALSE
SUMMARY:8/5/26 #500 Personalized Training (3 hrs)
DESCRIPTION:Description:This training will focus on Service Meal Patterns\, Offer Versus Serve\, Civil Rights\, and Customer Service.Class Schedule:Thursday 8/5/26 8:30 am - 11:30 am Registration Deadline: July 28th\, 2026Instructor: Carolyn Thomas
X-ALT-DESC;FMTTYPE=text/html:<!DOCTYPE html><html><head><title></title></head><body aria-disabled="false"><p>Description:</p><p>This training will focus on Service Meal Patterns\, Offer Versus Serve\, Civil Rights\, and Customer Service.</p><p>Class Schedule:</p><ul fr-original-style="" style="list-style-position: inside\;"><li>Thursday 8/5/26 8:30 am - 11:30 am&nbsp\;</li></ul><p><span style="color: #ff0000\;">Registration Deadline: July 28th\, 2026</span></p><p><span style="color: #000000\;">Instructor: Carolyn Thomas</span></p><p><br></p><p><br></p></body></html>
LOCATION:899 South Union Street Grasslake MI 49240
UID:e.4101.1448393
SEQUENCE:3
DTSTAMP:20260425T160542Z
URL:https://michiganschoolnutritionassociation.growthzoneapp.com/eventcalendar/Details/8-5-26-500-personalized-training-3-hrs-1715393?sourceTypeId=Hub
END:VEVENT
END:VCALENDAR
