BEGIN:VCALENDAR
VERSION:2.0
PRODID:-//ChamberMaster//Event Calendar 2.0//EN
METHOD:PUBLISH
X-PUBLISHED-TTL:P1H
REFRESH-INTERVAL:P1H
CALSCALE:GREGORIAN
BEGIN:VTIMEZONE
TZID:America/New_York
BEGIN:DAYLIGHT
RRULE:FREQ=YEARLY;BYMONTH=3;BYDAY=2SU
DTSTART:20070101T000000
TZOFFSETFROM:-0500
TZOFFSETTO:-0400
TZNAME:Eastern Daylight Time
END:DAYLIGHT
BEGIN:STANDARD
RRULE:FREQ=YEARLY;BYMONTH=11;BYDAY=1SU
DTSTART:20070101T000000
TZOFFSETFROM:-0400
TZOFFSETTO:-0500
TZNAME:Eastern Standard Time
END:STANDARD
END:VTIMEZONE
BEGIN:VEVENT
DTSTART;TZID=America/New_York:20260805T123000
DTEND;TZID=America/New_York:20260805T153000
X-MICROSOFT-CDO-ALLDAYEVENT:FALSE
SUMMARY:8/5/26 #143 - Conflict Resolution (3 hrs)
DESCRIPTION:This course concentrates on resolving conflict as a practical skill that can be developed using strategic techniques and resolving conflict in a positive manner. At the end of this course\, participants will be able to demonstrate appropriate responses to conflict\, increase communication skills by practicing the art of listening effectively\, identify their style in managing conflict\, and learn how life experiences affect how people react to conflict. The end result is a win-win for everyone involved and a positive relationship builder.Class Schedule:August 5\, 2026 - 12:30 pm - 3:30 pmRegistration Deadline: July 28th\, 2026Instructor: Carolyn ThomasKey Areas: 3200\, 3400\, 4100SNA'S CERTIFICATE & CREDENTIALING PROGRAMS MSBO   CHILD NUTRITION DIRECTOR CERTIFICATION
X-ALT-DESC;FMTTYPE=text/html:<!DOCTYPE html><html><head><title></title></head><body aria-disabled="false"><p>This course concentrates on resolving conflict as a practical skill that can be developed using strategic techniques and resolving conflict in a positive manner. At the end of this course\, participants will be able to demonstrate appropriate responses to conflict\, increase communication skills by practicing the art of listening effectively\, identify their style in managing conflict\, and learn how life experiences affect how people react to conflict. The end result is a win-win for everyone involved and a positive relationship builder.</p><p>Class Schedule:</p><ul fr-original-style="" style="list-style-position: inside\;"><li>August 5\, 2026 - 12:30 pm - 3:30 pm</li></ul><p><span style="color: #ff0000\;">Registration Deadline: July 28th\, 2026</span></p><p><span style="color: #000000\;">Instructor: Carolyn Thomas</span></p><p>Key Areas: 3200\, 3400\, 4100</p><p><u>SNA&rsquo\;S CERTIFICATE &amp\; CREDENTIALING PROGRAMS&nbsp\;</u></p><p><strong fr-original-style="" style="font-weight: 700\;"><a fr-original-style="" href="https://michigansna.org/MSBO_____Child_Nutrition_Director_Certification" style="user-select: auto\;">MSBO &ndash\; CHILD NUTRITION DIRECTOR CERTIFICATION&nbsp\;</a></strong></p><p><br></p><p><br></p></body></html>
LOCATION:899 South Union Street Grasslake MI 49240
UID:e.4101.1448398
SEQUENCE:3
DTSTAMP:20260425T160541Z
URL:https://michiganschoolnutritionassociation.growthzoneapp.com/eventcalendar/Details/8-5-26-143-conflict-resolution-3-hrs-1715397?sourceTypeId=Hub
END:VEVENT
END:VCALENDAR
