BEGIN:VCALENDAR
VERSION:2.0
PRODID:-//ChamberMaster//Event Calendar 2.0//EN
METHOD:PUBLISH
X-PUBLISHED-TTL:P1H
REFRESH-INTERVAL:P1H
CALSCALE:GREGORIAN
BEGIN:VTIMEZONE
TZID:America/New_York
BEGIN:DAYLIGHT
RRULE:FREQ=YEARLY;BYMONTH=3;BYDAY=2SU
DTSTART:20070101T000000
TZOFFSETFROM:-0500
TZOFFSETTO:-0400
TZNAME:Eastern Daylight Time
END:DAYLIGHT
BEGIN:STANDARD
RRULE:FREQ=YEARLY;BYMONTH=11;BYDAY=1SU
DTSTART:20070101T000000
TZOFFSETFROM:-0400
TZOFFSETTO:-0500
TZNAME:Eastern Standard Time
END:STANDARD
END:VTIMEZONE
BEGIN:VEVENT
DTSTART;TZID=America/New_York:20260730T090000
DTEND;TZID=America/New_York:20260731T150000
X-MICROSOFT-CDO-ALLDAYEVENT:FALSE
SUMMARY:7/30/26 & 7/31/26 #100 - School Nutrition Basics (10 hrs)
DESCRIPTION:Provide practical application for your school meals program. This will include meal requirements\, fed and state regulations\, and hands-on group activities.Class Schedule (must attend all sessions):7/30/26 9:00 am - 3:00 pm7/31/26 9:00 am - 3:00 pmRegistration Deadline: 7/22/2026Instructors: Carolyn Thomas and Lori AdkinsKey Areas: 1100\, 2100\, 2210\, 2300SNA'S CERTIFICATE & CREDENTIALING PROGRAMS
X-ALT-DESC;FMTTYPE=text/html:<!DOCTYPE html><html><head><title></title></head><body aria-disabled="false"><p>Provide practical application for your school meals program. This will include meal requirements\, fed and state regulations\, and hands-on group activities.</p><p>Class Schedule (must attend all sessions):</p><ul fr-original-style="" style="list-style-position: inside\;"><li>7/30/26 9:00 am - 3:00 pm</li><li>7/31/26 9:00 am - 3:00 pm</li></ul><p><span style="color: #ff0000\;">Registration Deadline: 7/22/2026</span></p><p><span style="color: #000000\;">Instructors: Carolyn Thomas and Lori Adkins</span></p><p>Key Areas: 1100\, 2100\, 2210\, 2300</p><p><u>SNA&rsquo\;S CERTIFICATE &amp\; CREDENTIALING PROGRAMS&nbsp\;</u></p></body></html>
LOCATION:2390 S. Milford Rd Highland MI 48357
UID:e.4101.1438789
SEQUENCE:3
DTSTAMP:20260425T160608Z
URL:https://michiganschoolnutritionassociation.growthzoneapp.com/eventcalendar/Details/7-30-26-7-31-26-100-school-nutrition-basics-10-hrs-1702989?sourceTypeId=Hub
END:VEVENT
END:VCALENDAR
