BEGIN:VCALENDAR
VERSION:2.0
PRODID:-//ChamberMaster//Event Calendar 2.0//EN
METHOD:PUBLISH
X-PUBLISHED-TTL:P1H
REFRESH-INTERVAL:P1H
CALSCALE:GREGORIAN
BEGIN:VTIMEZONE
TZID:America/New_York
BEGIN:DAYLIGHT
RRULE:FREQ=YEARLY;BYMONTH=3;BYDAY=2SU
DTSTART:20070101T000000
TZOFFSETFROM:-0500
TZOFFSETTO:-0400
TZNAME:Eastern Daylight Time
END:DAYLIGHT
BEGIN:STANDARD
RRULE:FREQ=YEARLY;BYMONTH=11;BYDAY=1SU
DTSTART:20070101T000000
TZOFFSETFROM:-0400
TZOFFSETTO:-0500
TZNAME:Eastern Standard Time
END:STANDARD
END:VTIMEZONE
BEGIN:VEVENT
DTSTART;TZID=America/New_York:20260521T140000
DTEND;TZID=America/New_York:20260521T180000
X-MICROSOFT-CDO-ALLDAYEVENT:FALSE
SUMMARY:5/21/26 #105 - School Nutrition Basics/Nutrition Overview Course (4 hrs)
DESCRIPTION:Overview of school food service\, nutrition facts\, and dietary guidelines.Class Schedule:Date - Thursday May 21st\, 2026 2:00 - 6:00 PMRegistration Deadline: May 13th\, 2026Instructor: Carolyn Thomas and Sara SimmermanKey Areas:1100\, 1300\, 2100\, 2210\, 2300SNA'S CERTIFICATE & CREDENTIALING PROGRAMS
X-ALT-DESC;FMTTYPE=text/html:<!DOCTYPE html><html><head><title></title></head><body aria-disabled="false"><p>Overview of school food service\, nutrition facts\, and dietary guidelines.</p><p>Class Schedule:</p><ul fr-original-style="" style="list-style-position: inside\;"><li>Date - Thursday May 21st\, 2026 2:00 - 6:00 PM</li></ul><p><span style="color: #ff0000\;">Registration Deadline: <span style="color: #ff0000\;"><span style="color: #ff0000\;">May 13th\, 2026</span></span></span></p><p><span style="color: #000000\;">Instructor: Carolyn Thomas <span style="color: #000000\;"><span style="color: #000000\;">and Sara Simmerman</span></span></span></p><p>Key Areas:<em>1100\, 1300\, 2100\, 2210\, 2300</em></p><p><u>SNA&rsquo\;S CERTIFICATE &amp\; CREDENTIALING PROGRAMS&nbsp\;</u></p><p><br></p><p><br></p><p><br></p></body></html>
LOCATION:1401 Cleaver Rd. Caro MI 48723
UID:e.4101.1432473
SEQUENCE:3
DTSTAMP:20260425T160608Z
URL:https://michiganschoolnutritionassociation.growthzoneapp.com/eventcalendar/Details/5-21-26-105-school-nutrition-basics-nutrition-overview-course-4-hrs-1695390?sourceTypeId=Hub
END:VEVENT
END:VCALENDAR
