BEGIN:VCALENDAR
VERSION:2.0
PRODID:-//ChamberMaster//Event Calendar 2.0//EN
METHOD:PUBLISH
X-PUBLISHED-TTL:P1H
REFRESH-INTERVAL:P1H
CALSCALE:GREGORIAN
BEGIN:VTIMEZONE
TZID:America/New_York
BEGIN:DAYLIGHT
RRULE:FREQ=YEARLY;BYMONTH=3;BYDAY=2SU
DTSTART:20070101T000000
TZOFFSETFROM:-0500
TZOFFSETTO:-0400
TZNAME:Eastern Daylight Time
END:DAYLIGHT
BEGIN:STANDARD
RRULE:FREQ=YEARLY;BYMONTH=11;BYDAY=1SU
DTSTART:20070101T000000
TZOFFSETFROM:-0400
TZOFFSETTO:-0500
TZNAME:Eastern Standard Time
END:STANDARD
END:VTIMEZONE
BEGIN:VEVENT
DTSTART;TZID=America/New_York:20260429T083000
DTEND;TZID=America/New_York:20260430T160000
X-MICROSOFT-CDO-ALLDAYEVENT:FALSE
SUMMARY:4/29/26 and 4/30/26 - #100-School Nutrition Basics (10 hrs)
DESCRIPTION:Provide practical application for your school meals program. This will include meal requirements\, fed and state regulations\, and hands-on group activities.Class Schedule (must attend all sessions):Wednesday 4/29/26 8:30 am - 4:00 pmThursday 4/30/26 1:00 pm - 4:00 pm\nRegistration Deadline: Friday 4/24/2026Instructor:  June Altom Key Areas: 1100\, 2100\, 2210\, 2300SNA'S CERTIFICATE & CREDENTIALING PROGRAMS
X-ALT-DESC;FMTTYPE=text/html:<!DOCTYPE html><html><head><title></title></head><body aria-disabled="false"><p><span style="font-size: 18px\; font-family: Arial\, Helvetica\, sans-serif\;">Provide practical application for your school meals program. This will include meal requirements\, fed and state regulations\, and hands-on group activities.</span></p><p><span style="font-family: Arial\,Helvetica\,sans-serif\;"><span style="font-size: 18px\;">Class Schedule (must attend all sessions):</span></span></p><ul fr-original-style="" style="list-style-position: inside\;"><li style="font-size: 18px\; font-family: Arial\, Helvetica\, sans-serif\;">Wednesday 4/29/26 <span style="color: rgb(0\, 0\, 0)\; font-style: normal\; font-variant-ligatures: normal\; font-variant-caps: normal\; font-weight: 400\; letter-spacing: normal\; orphans: 2\; text-align: start\; text-indent: 0px\; text-transform: none\; widows: 2\; word-spacing: 0px\; -webkit-text-stroke-width: 0px\; white-space: normal\; text-decoration-thickness: initial\; text-decoration-style: initial\; text-decoration-color: initial\; float: none\; display: inline !important\;">8:30 am - 4:00 pm</span></li><li style="font-size: 18px\; font-family: Arial\, Helvetica\, sans-serif\;">Thursday 4/30/26 1:00 pm - 4:00 pm</li></ul><p><br></p><p><span style="color: #ff0000\;">Registration Deadline: Friday 4/24/2026</span></p><p><span style="color: rgb(0\, 0\, 0)\; font-size: 14px\;">Instructor: &nbsp\;June Altom&nbsp\;</span></p><p><span style="font-size: 14px\;">Key Areas: 1100\, 2100\, 2210\, 2300</span></p><p><u><span style="font-size: 14px\;">SNA&rsquo\;S CERTIFICATE &amp\; CREDENTIALING PROGRAMS&nbsp\;</span></u></p></body></html>
LOCATION:4722 Meadowbrook Rd Benton Harbor MI 49022
UID:e.4101.1440035
SEQUENCE:3
DTSTAMP:20260425T160608Z
URL:https://michiganschoolnutritionassociation.growthzoneapp.com/eventcalendar/Details/4-29-26-and-4-30-26-100-school-nutrition-basics-10-hrs-1704714?sourceTypeId=Hub
END:VEVENT
END:VCALENDAR
